BEGIN:VCALENDAR
VERSION:2.0
PRODID:-//Camposol Online - ECPv4.7.4//NONSGML v1.0//EN
CALSCALE:GREGORIAN
METHOD:PUBLISH
X-WR-CALNAME:Camposol Online
X-ORIGINAL-URL:http://camposolonline.com
X-WR-CALDESC:Events for Camposol Online
BEGIN:VEVENT
DTSTART;TZID=Europe/Madrid:20171028T210000
DTEND;TZID=Europe/Madrid:20171028T210000
DTSTAMP:20260423T193228
CREATED:20171024T191331Z
LAST-MODIFIED:20171024T191331Z
UID:4513-1509224400-1509224400@camposolonline.com
SUMMARY:Halloween Party @ Sully's Sports Bar & Grill
DESCRIPTION:Sully’s Sports Bar & Grill are hosting a Halloween party on 28th October from 21:00. \nEntry is free\, and there will be a DJ plus fancy dress. \n\n\n	Related\n
URL:http://camposolonline.com/event/halloween-party-sullys-sports-bar-grill-281017/
LOCATION:Sully’s Sports Bar & Grill\, Avenida de Cabo Cope 8\, El Alamillo\, Puerto de Mazarrón\, 30868 Mazarrón\, Murcia\, Spain
END:VEVENT
END:VCALENDAR