BEGIN:VCALENDAR
VERSION:2.0
PRODID:-//Camposol Online - ECPv4.7.4//NONSGML v1.0//EN
CALSCALE:GREGORIAN
METHOD:PUBLISH
X-WR-CALNAME:Camposol Online
X-ORIGINAL-URL:http://camposolonline.com
X-WR-CALDESC:Events for Camposol Online
BEGIN:VEVENT
DTSTART;TZID=Europe/Madrid:20180113T210000
DTEND;TZID=Europe/Madrid:20180113T210000
DTSTAMP:20260423T183732
CREATED:20180112T073808Z
LAST-MODIFIED:20180112T073853Z
UID:5750-1515877200-1515877200@camposolonline.com
SUMMARY:The Hellhates @ Vista Sports & Café Bar
DESCRIPTION:The Hellhates are performing at Vista Sports & Café Bar on 13th January 2018 from 21:00. \n\n\n	Related\n
URL:http://camposolonline.com/event/hellhates-vista-sports-cafe-bar-130118/
LOCATION:Vista Sports & Café Bar\, Centro Comercial\, Urbanización Camposol Sector A\, El Saladillo\, 30875 Mazarrón\, Murcia\, Spain
END:VEVENT
END:VCALENDAR