BEGIN:VCALENDAR
VERSION:2.0
PRODID:-//Camposol Online - ECPv4.7.4//NONSGML v1.0//EN
CALSCALE:GREGORIAN
METHOD:PUBLISH
X-WR-CALNAME:Camposol Online
X-ORIGINAL-URL:http://camposolonline.com
X-WR-CALDESC:Events for Camposol Online
BEGIN:VEVENT
DTSTART;TZID=Europe/Madrid:20180304T150000
DTEND;TZID=Europe/Madrid:20180304T150000
DTSTAMP:20260424T084802
CREATED:20180308T062654Z
LAST-MODIFIED:20180308T062808Z
UID:6326-1520175600-1520175600@camposolonline.com
SUMMARY:Highway 61 @ The Blues House
DESCRIPTION:Highway 61 are performing at The Blues House on 4th March 2018 from 15:00. \n\n\n	Related\n
URL:http://camposolonline.com/event/highway-61-blues-house-040318/
LOCATION:The Blues House\, Avenida Pedro López Meca 26\, Bolnuevo\, 30870 Mazarrón\, Murcia\, Spain
END:VEVENT
END:VCALENDAR