BEGIN:VCALENDAR
VERSION:2.0
PRODID:-//Camposol Online - ECPv4.7.4//NONSGML v1.0//EN
CALSCALE:GREGORIAN
METHOD:PUBLISH
X-WR-CALNAME:Camposol Online
X-ORIGINAL-URL:http://camposolonline.com
X-WR-CALDESC:Events for Camposol Online
BEGIN:VEVENT
DTSTART;TZID=Europe/Madrid:20171028T153000
DTEND;TZID=Europe/Madrid:20171028T153000
DTSTAMP:20260423T182633
CREATED:20171003T050815Z
LAST-MODIFIED:20171003T050815Z
UID:3951-1509204600-1509204600@camposolonline.com
SUMMARY:Jam Session & Open Mic Afternoon @ Bar Retro
DESCRIPTION:Bar Retro hold a Jam Session & Open Mic afternoon every Saturday from 15:30. \n\n\n	Related\n
URL:http://camposolonline.com/event/jam-session-open-mic-afternoon-bar-retro-281017/
LOCATION:Bar Retro\, Príncipe de Asturias 140\, El Paretón\, 30858 Totana\, Murcia\, Spain
END:VEVENT
END:VCALENDAR