BEGIN:VCALENDAR
VERSION:2.0
PRODID:-//Camposol Online - ECPv4.7.4//NONSGML v1.0//EN
CALSCALE:GREGORIAN
METHOD:PUBLISH
X-WR-CALNAME:Camposol Online
X-ORIGINAL-URL:http://camposolonline.com
X-WR-CALDESC:Events for Camposol Online
BEGIN:VEVENT
DTSTART;TZID=Europe/Madrid:20171125T210000
DTEND;TZID=Europe/Madrid:20171125T210000
DTSTAMP:20260424T134145
CREATED:20171121T202653Z
LAST-MODIFIED:20171121T202653Z
UID:5055-1511643600-1511643600@camposolonline.com
SUMMARY:JJ Soul Man @ Vista Sports & Café Bar
DESCRIPTION:JJ Soul Man is performing at Vista Sports & Café Bar on 25th November 2017 from 21:00. \n\n\n	Related\n
URL:http://camposolonline.com/event/jj-soul-man-vista-sports-cafe-bar-251117/
LOCATION:Vista Sports & Café Bar\, Centro Comercial\, Urbanización Camposol Sector A\, El Saladillo\, 30875 Mazarrón\, Murcia\, Spain
END:VEVENT
END:VCALENDAR