BEGIN:VCALENDAR
VERSION:2.0
PRODID:-//Camposol Online - ECPv4.7.4//NONSGML v1.0//EN
CALSCALE:GREGORIAN
METHOD:PUBLISH
X-WR-CALNAME:Camposol Online
X-ORIGINAL-URL:http://camposolonline.com
X-WR-CALDESC:Events for Camposol Online
BEGIN:VEVENT
DTSTART;TZID=Europe/Madrid:20171105T150000
DTEND;TZID=Europe/Madrid:20171105T150000
DTSTAMP:20260423T181053
CREATED:20171104T070031Z
LAST-MODIFIED:20171104T070157Z
UID:4743-1509894000-1509894000@camposolonline.com
SUMMARY:Jokers\, Inc @ The Blues House
DESCRIPTION:Jokers\, Inc. are performing at The Blues House on 5th November 2017 from 15:00. \n\n\n	Related\n
URL:http://camposolonline.com/event/jokers-inc-blues-house-051117/
LOCATION:The Blues House\, Avenida Pedro López Meca 26\, Bolnuevo\, 30870 Mazarrón\, Murcia\, Spain
END:VEVENT
END:VCALENDAR