BEGIN:VCALENDAR
VERSION:2.0
PRODID:-//Camposol Online - ECPv4.7.4//NONSGML v1.0//EN
CALSCALE:GREGORIAN
METHOD:PUBLISH
X-WR-CALNAME:Camposol Online
X-ORIGINAL-URL:http://camposolonline.com
X-WR-CALDESC:Events for Camposol Online
BEGIN:VEVENT
DTSTART;TZID=Europe/Madrid:20171008T150000
DTEND;TZID=Europe/Madrid:20171008T150000
DTSTAMP:20260423T220517
CREATED:20171003T101513Z
LAST-MODIFIED:20171003T101513Z
UID:3997-1507474800-1507474800@camposolonline.com
SUMMARY:Jokers\, Inc. @ The Blues House
DESCRIPTION:Jokers\, Inc. are performing at The Blues House on 8th October 2017 from 15:00. \n\n\n	Related\n
URL:http://camposolonline.com/event/jokers-inc-blues-house-081017/
LOCATION:The Blues House\, Avenida Pedro López Meca 26\, Bolnuevo\, 30870 Mazarrón\, Murcia\, Spain
END:VEVENT
END:VCALENDAR