BEGIN:VCALENDAR
VERSION:2.0
PRODID:-//Camposol Online - ECPv4.7.4//NONSGML v1.0//EN
CALSCALE:GREGORIAN
METHOD:PUBLISH
X-WR-CALNAME:Camposol Online
X-ORIGINAL-URL:http://camposolonline.com
X-WR-CALDESC:Events for Camposol Online
BEGIN:VEVENT
DTSTART;TZID=Europe/Madrid:20171103T210000
DTEND;TZID=Europe/Madrid:20171103T210000
DTSTAMP:20260423T194257
CREATED:20171022T142927Z
LAST-MODIFIED:20171022T142927Z
UID:4448-1509742800-1509742800@camposolonline.com
SUMMARY:Just For Fun @ The Condado Club
DESCRIPTION:Just For Fun is performing at The Condado Club on 3rd November 2017 from 21:00. \n\n\n	Related\n
URL:http://camposolonline.com/event/just-fun-condado-club-031117/
LOCATION:The Condado Club\, Condado de Alhama\, Carretera de Mazarrón\, km 33\, 30840 Alhama de Murcia\, Murcia\, Spain
END:VEVENT
END:VCALENDAR