BEGIN:VCALENDAR
VERSION:2.0
PRODID:-//Camposol Online - ECPv4.7.4//NONSGML v1.0//EN
CALSCALE:GREGORIAN
METHOD:PUBLISH
X-WR-CALNAME:Camposol Online
X-ORIGINAL-URL:http://camposolonline.com
X-WR-CALDESC:Events for Camposol Online
BEGIN:VEVENT
DTSTART;TZID=Europe/Madrid:20171130T210000
DTEND;TZID=Europe/Madrid:20171130T210000
DTSTAMP:20260423T211736
CREATED:20171104T073857Z
LAST-MODIFIED:20171104T073857Z
UID:4793-1512075600-1512075600@camposolonline.com
SUMMARY:Karaoke @ Cat's Bar
DESCRIPTION:It’s karaoke night with Bernie Mac at Cat’s Bar every Thursday from 21:00. \n\n\n	Related\n
URL:http://camposolonline.com/event/karaoke-cats-bar-301117/
LOCATION:Cat’s Bar\, Centro Comercial\, Urbanización Camposol Sector A\, El Saladillo\, 30875 Mazarrón\, Murcia\, Spain
END:VEVENT
END:VCALENDAR