BEGIN:VCALENDAR
VERSION:2.0
PRODID:-//Camposol Online - ECPv4.7.4//NONSGML v1.0//EN
CALSCALE:GREGORIAN
METHOD:PUBLISH
X-WR-CALNAME:Camposol Online
X-ORIGINAL-URL:http://camposolonline.com
X-WR-CALDESC:Events for Camposol Online
BEGIN:VEVENT
DTSTART;TZID=Europe/Madrid:20171110T210000
DTEND;TZID=Europe/Madrid:20171110T210000
DTSTAMP:20260423T211847
CREATED:20171022T143217Z
LAST-MODIFIED:20171022T143217Z
UID:4450-1510347600-1510347600@camposolonline.com
SUMMARY:Karaoke @ The Condado Club
DESCRIPTION:It’s karaoke night at The Condado Club on 10th November 2017 from 21:00. \n\n\n	Related\n
URL:http://camposolonline.com/event/karaoke-condado-club-101117/
LOCATION:The Condado Club\, Condado de Alhama\, Carretera de Mazarrón\, km 33\, 30840 Alhama de Murcia\, Murcia\, Spain
END:VEVENT
END:VCALENDAR