BEGIN:VCALENDAR
VERSION:2.0
PRODID:-//Camposol Online - ECPv4.7.4//NONSGML v1.0//EN
CALSCALE:GREGORIAN
METHOD:PUBLISH
X-WR-CALNAME:Camposol Online
X-ORIGINAL-URL:http://camposolonline.com
X-WR-CALDESC:Events for Camposol Online
BEGIN:VEVENT
DTSTART;TZID=Europe/Madrid:20180216T210000
DTEND;TZID=Europe/Madrid:20180216T210000
DTSTAMP:20260424T023209
CREATED:20180127T064735Z
LAST-MODIFIED:20180127T064735Z
UID:6024-1518814800-1518814800@camposolonline.com
SUMMARY:Karaoke @ The Condado Club
DESCRIPTION:There’s a karaoke at The Condado Club every Friday from 21:00. \n\n\n	Related\n
URL:http://camposolonline.com/event/karaoke-condado-club-160218/
LOCATION:The Condado Club\, Condado de Alhama\, Carretera de Mazarrón\, km 33\, 30840 Alhama de Murcia\, Murcia\, Spain
END:VEVENT
END:VCALENDAR