BEGIN:VCALENDAR
VERSION:2.0
PRODID:-//Camposol Online - ECPv4.7.4//NONSGML v1.0//EN
CALSCALE:GREGORIAN
METHOD:PUBLISH
X-WR-CALNAME:Camposol Online
X-ORIGINAL-URL:http://camposolonline.com
X-WR-CALDESC:Events for Camposol Online
BEGIN:VEVENT
DTSTART;TZID=Europe/Madrid:20180117T180000
DTEND;TZID=Europe/Madrid:20180117T180000
DTSTAMP:20260423T223800
CREATED:20180112T065652Z
LAST-MODIFIED:20180112T065652Z
UID:5720-1516212000-1516212000@camposolonline.com
SUMMARY:Karaoke @ Vista Sports & Café Bar
DESCRIPTION:There’s a karaoke at Vista Sports & Café Bar every Wednesday from 21:00. \n\n\n	Related\n
URL:http://camposolonline.com/event/karaoke-vista-sports-cafe-bar-170118/
LOCATION:Vista Sports & Café Bar\, Centro Comercial\, Urbanización Camposol Sector A\, El Saladillo\, 30875 Mazarrón\, Murcia\, Spain
END:VEVENT
END:VCALENDAR