BEGIN:VCALENDAR
VERSION:2.0
PRODID:-//Camposol Online - ECPv4.7.4//NONSGML v1.0//EN
CALSCALE:GREGORIAN
METHOD:PUBLISH
X-WR-CALNAME:Camposol Online
X-ORIGINAL-URL:http://camposolonline.com
X-WR-CALDESC:Events for Camposol Online
BEGIN:VEVENT
DTSTART;TZID=Europe/Madrid:20171206T193000
DTEND;TZID=Europe/Madrid:20171206T193000
DTSTAMP:20260423T183752
CREATED:20171118T063636Z
LAST-MODIFIED:20171118T063636Z
UID:5018-1512588600-1512588600@camposolonline.com
SUMMARY:Karen’s Christmas Quiz @ Café Buenavista
DESCRIPTION:Come along to Karen’s Christmas Quiz in aid of Helping the Perrera Dogs at Café Buenavista on 6th December 2017 from 19:30. Entrance costs 2.50 euros. \n\n\n	Related\n
URL:http://camposolonline.com/event/karens-christmas-quiz-cafe-buenavista-061217/
LOCATION:Café Buenavista\, Avenida Cabo de Palos 3\, El Alamillo\, Puerto de Mazarrón\, 30868 Mazarrón\, Murcia\, Spain
END:VEVENT
END:VCALENDAR