BEGIN:VCALENDAR
VERSION:2.0
PRODID:-//Camposol Online - ECPv4.7.4//NONSGML v1.0//EN
CALSCALE:GREGORIAN
METHOD:PUBLISH
X-WR-CALNAME:Camposol Online
X-ORIGINAL-URL:http://camposolonline.com
X-WR-CALDESC:Events for Camposol Online
BEGIN:VEVENT
DTSTART;TZID=Europe/Madrid:20180407T210000
DTEND;TZID=Europe/Madrid:20180407T210000
DTSTAMP:20260423T211112
CREATED:20180321T144801Z
LAST-MODIFIED:20180321T144801Z
UID:6562-1523134800-1523134800@camposolonline.com
SUMMARY:Kev Moore @ Bar Med
DESCRIPTION:Kev Moore is performing at Bar Med on 7th April 2018 from 21:00. \n\n\n	Related\n
URL:http://camposolonline.com/event/kev-moore-bar-med-070418/
LOCATION:Bar Med\, Avenida de Cabo Cope\, El Alamillo\, Puerto de Mazarrón\, 30860 Mazarrón\, Murcia\, Spain
END:VEVENT
END:VCALENDAR