BEGIN:VCALENDAR
VERSION:2.0
PRODID:-//Camposol Online - ECPv4.7.4//NONSGML v1.0//EN
CALSCALE:GREGORIAN
METHOD:PUBLISH
X-WR-CALNAME:Camposol Online
X-ORIGINAL-URL:http://camposolonline.com
X-WR-CALDESC:Events for Camposol Online
BEGIN:VEVENT
DTSTART;TZID=Europe/Madrid:20171118T210000
DTEND;TZID=Europe/Madrid:20171118T210000
DTSTAMP:20260424T121425
CREATED:20171105T074159Z
LAST-MODIFIED:20171105T074159Z
UID:4816-1511038800-1511038800@camposolonline.com
SUMMARY:Kev Moore @ Bar Med
DESCRIPTION:Kev Moore is performing at Bar Med on 18th November 2017 from 21:00. \n\n\n	Related\n
URL:http://camposolonline.com/event/kev-moore-bar-med-181117/
LOCATION:Bar Med\, Avenida de Cabo Cope\, El Alamillo\, Puerto de Mazarrón\, 30860 Mazarrón\, Murcia\, Spain
END:VEVENT
END:VCALENDAR