BEGIN:VCALENDAR
VERSION:2.0
PRODID:-//Camposol Online - ECPv4.7.4//NONSGML v1.0//EN
CALSCALE:GREGORIAN
METHOD:PUBLISH
X-WR-CALNAME:Camposol Online
X-ORIGINAL-URL:http://camposolonline.com
X-WR-CALDESC:Events for Camposol Online
BEGIN:VEVENT
DTSTART;TZID=Europe/Madrid:20171004T190000
DTEND;TZID=Europe/Madrid:20171004T190000
DTSTAMP:20260423T165703
CREATED:20170903T214025Z
LAST-MODIFIED:20170904T054701Z
UID:3102-1507143600-1507143600@camposolonline.com
SUMMARY:Ladies Evening @ Mesón Mariano
DESCRIPTION:The Welcome Group present Ladies Evening at Mesón Mariano on 4th October 2017. \nThere will be stalls selling a variety of goodies\, a fashion show by MABS Cancer Support Group\, Age Concern and Make a Difference\, bingo\, a raffle and a performance by Woody. \nTickets cost 5 euros. \n\n\n	Related\n
URL:http://camposolonline.com/event/ladies-evening-meson-mariano/
LOCATION:Mesón Mariano\, Calle Madrid S/N\, Urbanización Camposol Sector A\, El Saladillo\, 30875 Mazarrón\, Murcia\, Spain
END:VEVENT
END:VCALENDAR