BEGIN:VCALENDAR
VERSION:2.0
PRODID:-//Camposol Online - ECPv4.7.4//NONSGML v1.0//EN
CALSCALE:GREGORIAN
METHOD:PUBLISH
X-WR-CALNAME:Camposol Online
X-ORIGINAL-URL:http://camposolonline.com
X-WR-CALDESC:Events for Camposol Online
BEGIN:VEVENT
DTSTART;TZID=Europe/Madrid:20171011T123000
DTEND;TZID=Europe/Madrid:20171011T160000
DTSTAMP:20260423T165720
CREATED:20171009T200102Z
LAST-MODIFIED:20171009T210058Z
UID:4218-1507725000-1507737600@camposolonline.com
SUMMARY:Ladies Wot Lunch @ Bar Med
DESCRIPTION: \nOn the first Wednesday of each month\, Bar Med hosts Ladies Wot Lunch\, which includes a three-course menu del día for 10€ per person\, the opportunity to buy Avon and Kleeneze products\, men\, women and children’s clothing\, jewellery and much more! \n\n\n	Related\n
URL:http://camposolonline.com/event/ladies-wot-lunch-bar-med-111017/
LOCATION:Bar Med\, Avenida de Cabo Cope\, El Alamillo\, Puerto de Mazarrón\, 30860 Mazarrón\, Murcia\, Spain
END:VEVENT
END:VCALENDAR