BEGIN:VCALENDAR
VERSION:2.0
PRODID:-//Camposol Online - ECPv4.7.4//NONSGML v1.0//EN
CALSCALE:GREGORIAN
METHOD:PUBLISH
X-WR-CALNAME:Camposol Online
X-ORIGINAL-URL:http://camposolonline.com
X-WR-CALDESC:Events for Camposol Online
BEGIN:VEVENT
DTSTART;TZID=Europe/Madrid:20171105T170000
DTEND;TZID=Europe/Madrid:20171105T170000
DTSTAMP:20260423T165817
CREATED:20171002T103334Z
LAST-MODIFIED:20171024T051045Z
UID:3910-1509901200-1509901200@camposolonline.com
SUMMARY:Las Tres Estrellas @ The Club House
DESCRIPTION:Las Tres Estrellas — Manuel Lázaro\, Melanie Howard-Coles and Petro Zhylyk — are performing at The Club House on Sunday\, 5th November 2017. Tickets cost 10 euro per person. They can be purchased by calling 634 382 968 or email milesbetterevents@gmail.com \n\n\n	Related\n
URL:http://camposolonline.com/event/las-tres-estrellas-club-house-051117/
LOCATION:The Club House\, Camposol Club de Golf\, Urbanización Camposol Sector C\, El Saladillo\, 30875 Mazarrón\, Murcia\, Spain
END:VEVENT
END:VCALENDAR