BEGIN:VCALENDAR
VERSION:2.0
PRODID:-//Camposol Online - ECPv4.7.4//NONSGML v1.0//EN
CALSCALE:GREGORIAN
METHOD:PUBLISH
X-WR-CALNAME:Camposol Online
X-ORIGINAL-URL:http://camposolonline.com
X-WR-CALDESC:Events for Camposol Online
BEGIN:VEVENT
DTSTART;TZID=Europe/Madrid:20180415T150000
DTEND;TZID=Europe/Madrid:20180415T150000
DTSTAMP:20260423T194258
CREATED:20180321T142945Z
LAST-MODIFIED:20180321T142945Z
UID:6551-1523804400-1523804400@camposolonline.com
SUMMARY:Los Duques @ The Blues House
DESCRIPTION:The Duques are performing at The Blues House on 15th April 2018 from 15:00. \n\n\n	Related\n
URL:http://camposolonline.com/event/los-duques-blues-house-150418/
LOCATION:The Blues House\, Avenida Pedro López Meca 26\, Bolnuevo\, 30870 Mazarrón\, Murcia\, Spain
END:VEVENT
END:VCALENDAR