BEGIN:VCALENDAR
VERSION:2.0
PRODID:-//Camposol Online - ECPv4.7.4//NONSGML v1.0//EN
CALSCALE:GREGORIAN
METHOD:PUBLISH
X-WR-CALNAME:Camposol Online
X-ORIGINAL-URL:http://camposolonline.com
X-WR-CALDESC:Events for Camposol Online
BEGIN:VEVENT
DTSTART;TZID=Europe/Madrid:20171006T150000
DTEND;TZID=Europe/Madrid:20171006T190000
DTSTAMP:20260423T164618
CREATED:20170826T055013Z
LAST-MODIFIED:20170826T055214Z
UID:2876-1507302000-1507316400@camposolonline.com
SUMMARY:MABS Tea Party @ Bolnuevo
DESCRIPTION:MABS Cancer Support Group are holding a Tea Party at Avenida Mar Azul 1 on 6th October 2017. There is Cava on arrival\, fresh sandwiches and cake. Ticket cost 8 euros. \n\n\n	Related\n
URL:http://camposolonline.com/event/mabs-tea-party-bolnuevo/
LOCATION:Avenida Mar Azul 1\, Bolnuevo\, 30870 Mazarrón\, Murcia\, Spain
END:VEVENT
END:VCALENDAR