BEGIN:VCALENDAR
VERSION:2.0
PRODID:-//Camposol Online - ECPv4.7.4//NONSGML v1.0//EN
CALSCALE:GREGORIAN
METHOD:PUBLISH
X-WR-CALNAME:Camposol Online
X-ORIGINAL-URL:http://camposolonline.com
X-WR-CALDESC:Events for Camposol Online
BEGIN:VEVENT
DTSTART;TZID=Europe/Madrid:20171214T210000
DTEND;TZID=Europe/Madrid:20171214T210000
DTSTAMP:20260423T223426
CREATED:20171118T061502Z
LAST-MODIFIED:20171118T061502Z
UID:5010-1513285200-1513285200@camposolonline.com
SUMMARY:Maggie May @ Bar Med
DESCRIPTION:Maggie May is performing at Bar Med on 14th December 2017 from 21:00. \n\n\n	Related\n
URL:http://camposolonline.com/event/maggie-may-bar-med-141217/
LOCATION:Bar Med\, Avenida de Cabo Cope\, El Alamillo\, Puerto de Mazarrón\, 30860 Mazarrón\, Murcia\, Spain
END:VEVENT
END:VCALENDAR