BEGIN:VCALENDAR
VERSION:2.0
PRODID:-//Camposol Online - ECPv4.7.4//NONSGML v1.0//EN
CALSCALE:GREGORIAN
METHOD:PUBLISH
X-WR-CALNAME:Camposol Online
X-ORIGINAL-URL:http://camposolonline.com
X-WR-CALDESC:Events for Camposol Online
BEGIN:VEVENT
DTSTART;TZID=Europe/Madrid:20171222T190000
DTEND;TZID=Europe/Madrid:20171222T190000
DTSTAMP:20260423T233712
CREATED:20171105T080518Z
LAST-MODIFIED:20171105T080518Z
UID:4830-1513969200-1513969200@camposolonline.com
SUMMARY:Making a Difference Christmas Party @ The Club House
DESCRIPTION:Making a Difference are hosting a Christmas party at The Club House on 22nd December 2017 from 19:00. \nTickets cost 16 euros each\, and include a four-course meal with a bottle of wine to share between two\, plus live entertainment by Martyn Ross. They are available from Making a Difference’s Puerto de Mazarrón charity shop\, or by calling Martyn on 968 437 690 or 630 854 072. \n\n\n	Related\n
URL:http://camposolonline.com/event/making-difference-christmas-party-club-house-2017/
LOCATION:The Club House\, Camposol Club de Golf\, Urbanización Camposol Sector C\, El Saladillo\, 30875 Mazarrón\, Murcia\, Spain
END:VEVENT
END:VCALENDAR