BEGIN:VCALENDAR
VERSION:2.0
PRODID:-//Camposol Online - ECPv4.7.4//NONSGML v1.0//EN
CALSCALE:GREGORIAN
METHOD:PUBLISH
X-WR-CALNAME:Camposol Online
X-ORIGINAL-URL:http://camposolonline.com
X-WR-CALDESC:Events for Camposol Online
BEGIN:VEVENT
DTSTART;TZID=Europe/Madrid:20171021T210000
DTEND;TZID=Europe/Madrid:20171021T210000
DTSTAMP:20260424T042203
CREATED:20171013T053051Z
LAST-MODIFIED:20171013T053128Z
UID:4299-1508619600-1508619600@camposolonline.com
SUMMARY:Marilyn Shipley @ Vista Sports & Café Bar
DESCRIPTION:Marilyn Shipley is performing at Vista Sports & Café Bar on 21st October 2017 from 21:00. \n\n\n	Related\n
URL:http://camposolonline.com/event/marilyn-shipley-vista-sports-cafe-bar-211017/
LOCATION:Vista Sports & Café Bar\, Centro Comercial\, Urbanización Camposol Sector A\, El Saladillo\, 30875 Mazarrón\, Murcia\, Spain
END:VEVENT
END:VCALENDAR