BEGIN:VCALENDAR
VERSION:2.0
PRODID:-//Camposol Online - ECPv4.7.4//NONSGML v1.0//EN
CALSCALE:GREGORIAN
METHOD:PUBLISH
X-WR-CALNAME:Camposol Online
X-ORIGINAL-URL:http://camposolonline.com
X-WR-CALDESC:Events for Camposol Online
BEGIN:VEVENT
DTSTART;TZID=Europe/Madrid:20171019T210000
DTEND;TZID=Europe/Madrid:20171019T210000
DTSTAMP:20260423T211228
CREATED:20171013T060942Z
LAST-MODIFIED:20171013T060942Z
UID:4315-1508446800-1508446800@camposolonline.com
SUMMARY:Martin Kay @ The Condado Club
DESCRIPTION:Martin Kay is performing at The Condado Club on 19th October 2017 from 21:00. \n\n\n	Related\n
URL:http://camposolonline.com/event/martin-kay-condado-club-191017/
LOCATION:The Condado Club\, Condado de Alhama\, Carretera de Mazarrón\, km 33\, 30840 Alhama de Murcia\, Murcia\, Spain
END:VEVENT
END:VCALENDAR