BEGIN:VCALENDAR
VERSION:2.0
PRODID:-//Camposol Online - ECPv4.7.4//NONSGML v1.0//EN
CALSCALE:GREGORIAN
METHOD:PUBLISH
X-WR-CALNAME:Camposol Online
X-ORIGINAL-URL:http://camposolonline.com
X-WR-CALDESC:Events for Camposol Online
BEGIN:VEVENT
DTSTART;VALUE=DATE:20180427
DTEND;VALUE=DATE:20180428
DTSTAMP:20260423T183655
CREATED:20171205T195434Z
LAST-MODIFIED:20171205T195434Z
UID:5314-1524787200-1524873599@camposolonline.com
SUMMARY:Masked Ball @ Hotel Costa
DESCRIPTION:Camposol Fiesta Comittee are holding a Masked Ball at Hotel Costa\, Mazarrón\, on 27th April 2018.  \nTickets cost 35 euros and includes a 3 course meal with wine\, beer\, water or soft drinks throughout the meal\, and a drinks voucher to redeem at the bar after the meal.   \nLive entertainment will be provided by Scott James\, and for an extra 5 euros\, you can pre-book return coach travel. \nTickets can be purchased from the committee’s market stall every Friday on Sector B or by emailing camposolfiesta2017@gmail.com \n\n\n	Related\n
URL:http://camposolonline.com/event/masked-ball-hotel-costa-270418/
LOCATION:Hotel Costa\, Travesía San Juan 6\, Mazarrón\, 30870 Mazarrón\, Murcia\, Spain
END:VEVENT
END:VCALENDAR