BEGIN:VCALENDAR
VERSION:2.0
PRODID:-//Camposol Online - ECPv4.7.4//NONSGML v1.0//EN
CALSCALE:GREGORIAN
METHOD:PUBLISH
X-WR-CALNAME:Camposol Online
X-ORIGINAL-URL:http://camposolonline.com
X-WR-CALDESC:Events for Camposol Online
BEGIN:VEVENT
DTSTART;TZID=Europe/Madrid:20171111T110000
DTEND;TZID=Europe/Madrid:20171111T150000
DTSTAMP:20260423T183752
CREATED:20171004T134846Z
LAST-MODIFIED:20171004T134846Z
UID:4091-1510398000-1510412400@camposolonline.com
SUMMARY:Mazarrón Bahía Lions Club's Sponsored Walk @ Puerto de Mazarrón
DESCRIPTION:Mazarrón Bahía Lions Club are holding a sponsored walk for International Diabetes Awareness Day at Plaza de las Comunidades Autonomas in Puerto de Mazarrón on 11th November 2017 between 11:00 and 15:00. \nSponsor forms are available from the Mazarrón Bahía Lions Club’s stall at the market on Sector B on Fridays\, or by emailing lionandrew.brown55@gmail.com. \n\n\n	Related\n
URL:http://camposolonline.com/event/mazarron-bahia-lions-clubs-sponsored-walk-puerto-de-mazarron-2017/
LOCATION:Paseo de las Comunidades Autonomas\, Puerto de Mazarrón\, 30870 Mazarrón\, Murcia\, Spain
END:VEVENT
END:VCALENDAR