BEGIN:VCALENDAR
VERSION:2.0
PRODID:-//Camposol Online - ECPv4.7.4//NONSGML v1.0//EN
CALSCALE:GREGORIAN
METHOD:PUBLISH
X-WR-CALNAME:Camposol Online
X-ORIGINAL-URL:http://camposolonline.com
X-WR-CALDESC:Events for Camposol Online
BEGIN:VEVENT
DTSTART;TZID=Europe/Madrid:20171125T200000
DTEND;TZID=Europe/Madrid:20171125T200000
DTSTAMP:20260424T182810
CREATED:20171121T201946Z
LAST-MODIFIED:20171121T201946Z
UID:5053-1511640000-1511640000@camposolonline.com
SUMMARY:Motown & Soul Night @ Black Bull
DESCRIPTION:It’s Motown & Soul Night at Black Bull on 25th November 2017 from 20:00\, with guest DJ’s Dave Moore and Andy McCombe\, plus Camposol’s very own DJ Bernie Mac. \n\n\n	Related\n
URL:http://camposolonline.com/event/motown-soul-night-black-bull-251117/
LOCATION:Black Bull\, Centro Comercial\, Urbanización Camposol Sector B\, El Saladillo\, 30875 Mazarrón\, Murcia\, Spain
END:VEVENT
END:VCALENDAR