BEGIN:VCALENDAR
VERSION:2.0
PRODID:-//Camposol Online - ECPv4.7.4//NONSGML v1.0//EN
CALSCALE:GREGORIAN
METHOD:PUBLISH
X-WR-CALNAME:Camposol Online
X-ORIGINAL-URL:http://camposolonline.com
X-WR-CALDESC:Events for Camposol Online
BEGIN:VEVENT
DTSTART;TZID=Europe/Madrid:20171202T200000
DTEND;TZID=Europe/Madrid:20171202T200000
DTSTAMP:20260423T171615
CREATED:20171025T055502Z
LAST-MODIFIED:20171025T055502Z
UID:4542-1512244800-1512244800@camposolonline.com
SUMMARY:Noah's ARC Christmas Party @ The Club House
DESCRIPTION:Noah’s ARC are holding a Christmas party at The Club House on 2nd December 2017 from 20:00. \nTickets cost 15 euros\, and include a three-course meal and live entertainment. \n\n\n	Related\n
URL:http://camposolonline.com/event/noahs-arc-christmas-party-club-house-021217/
LOCATION:The Club House\, Camposol Club de Golf\, Urbanización Camposol Sector C\, El Saladillo\, 30875 Mazarrón\, Murcia\, Spain
END:VEVENT
END:VCALENDAR