BEGIN:VCALENDAR
VERSION:2.0
PRODID:-//Camposol Online - ECPv4.7.4//NONSGML v1.0//EN
CALSCALE:GREGORIAN
METHOD:PUBLISH
X-WR-CALNAME:Camposol Online
X-ORIGINAL-URL:http://camposolonline.com
X-WR-CALDESC:Events for Camposol Online
BEGIN:VEVENT
DTSTART;TZID=Europe/Madrid:20171021T143000
DTEND;TZID=Europe/Madrid:20171021T143000
DTSTAMP:20260424T041914
CREATED:20170826T062629Z
LAST-MODIFIED:20170826T062629Z
UID:2883-1508596200-1508596200@camposolonline.com
SUMMARY:Noah's ARC Fun Dog Show @ Hospedería Rural Los Balcones
DESCRIPTION:Noah’s ARC is holding a Fun Dog Show on 21st October 2017 at Hospedería Rural Los Balcones. \nDogs can be entered into the following classes: \nOwner & Dog Race\nPoshest Pooch\nMost Obedient Dog\nWaggiest Tail\nBest Trick\nAgility Test\nDoggie Fancy Dress \n\n\n	Related\n
URL:http://camposolonline.com/event/noahs-arc-fun-dog-show-2017/
LOCATION:Hospedería Rural Los Balcones\, Paraje los Balcones 187\, Cañadas del Romero\, 30858 Mazarrón\, Murcia\, Spain
END:VEVENT
END:VCALENDAR