BEGIN:VCALENDAR
VERSION:2.0
PRODID:-//Camposol Online - ECPv4.7.4//NONSGML v1.0//EN
CALSCALE:GREGORIAN
METHOD:PUBLISH
X-WR-CALNAME:Camposol Online
X-ORIGINAL-URL:http://camposolonline.com
X-WR-CALDESC:Events for Camposol Online
BEGIN:VEVENT
DTSTART;TZID=UTC:20170809T220000
DTEND;TZID=UTC:20170809T220000
DTSTAMP:20260423T183413
CREATED:20170809T050647Z
LAST-MODIFIED:20170809T050745Z
UID:2337-1502316000-1502316000@camposolonline.com
SUMMARY:The Intouchables @ Playa de la Isla
DESCRIPTION:The Intouchables is being screened in Spanish at 22:00 on 9th August 2017 at Puerto de Mazarrón’s open-air cinema on Playa de la Isla. \n\n\n	Related\n
URL:http://camposolonline.com/event/open-air-cinema-090817/
LOCATION:Playa de la Isla\, Puerto de Mazarrón\, 30860 Mazarrón\, Murcia\, Spain
END:VEVENT
END:VCALENDAR