BEGIN:VCALENDAR
VERSION:2.0
PRODID:-//Camposol Online - ECPv4.7.4//NONSGML v1.0//EN
CALSCALE:GREGORIAN
METHOD:PUBLISH
X-WR-CALNAME:Camposol Online
X-ORIGINAL-URL:http://camposolonline.com
X-WR-CALDESC:Events for Camposol Online
BEGIN:VEVENT
DTSTART;TZID=Europe/Madrid:20171216T210000
DTEND;TZID=Europe/Madrid:20171216T210000
DTSTAMP:20260424T010756
CREATED:20171121T203913Z
LAST-MODIFIED:20171121T203913Z
UID:5062-1513458000-1513458000@camposolonline.com
SUMMARY:Paul James Allen @ Vista Sports & Café Bar
DESCRIPTION:Paul James Allen is performing at Vista Sports & Café Bar on 16th December 2017 from 21:00. \n\n\n	Related\n
URL:http://camposolonline.com/event/paul-james-allen-vista-sports-cafe-bar-161217/
LOCATION:Vista Sports & Café Bar\, Centro Comercial\, Urbanización Camposol Sector A\, El Saladillo\, 30875 Mazarrón\, Murcia\, Spain
END:VEVENT
END:VCALENDAR