BEGIN:VCALENDAR
VERSION:2.0
PRODID:-//Camposol Online - ECPv4.7.4//NONSGML v1.0//EN
CALSCALE:GREGORIAN
METHOD:PUBLISH
X-WR-CALNAME:Camposol Online
X-ORIGINAL-URL:http://camposolonline.com
X-WR-CALDESC:Events for Camposol Online
BEGIN:VEVENT
DTSTART;TZID=Europe/Madrid:20171215T210000
DTEND;TZID=Europe/Madrid:20171215T210000
DTSTAMP:20260423T194128
CREATED:20171201T205501Z
LAST-MODIFIED:20171201T205501Z
UID:5268-1513371600-1513371600@camposolonline.com
SUMMARY:Quiz @ Bar Retro
DESCRIPTION:There’s a quiz at Bar Retro every Friday from 21:00. \n\n\n	Related\n
URL:http://camposolonline.com/event/quiz-bar-retro-151217/
LOCATION:Bar Retro\, Príncipe de Asturias 140\, El Paretón\, 30858 Totana\, Murcia\, Spain
END:VEVENT
END:VCALENDAR