BEGIN:VCALENDAR
VERSION:2.0
PRODID:-//Camposol Online - ECPv4.7.4//NONSGML v1.0//EN
CALSCALE:GREGORIAN
METHOD:PUBLISH
X-WR-CALNAME:Camposol Online
X-ORIGINAL-URL:http://camposolonline.com
X-WR-CALDESC:Events for Camposol Online
BEGIN:VEVENT
DTSTART;TZID=Europe/Madrid:20171222T210000
DTEND;TZID=Europe/Madrid:20171222T210000
DTSTAMP:20260423T194129
CREATED:20171201T205644Z
LAST-MODIFIED:20171201T205644Z
UID:5270-1513976400-1513976400@camposolonline.com
SUMMARY:Quiz @ Bar Retro
DESCRIPTION:There’s a quiz at Bar Retro every Friday from 21:00. \n\n\n	Related\n
URL:http://camposolonline.com/event/quiz-bar-retro-221217/
LOCATION:Bar Retro\, Príncipe de Asturias 140\, El Paretón\, 30858 Totana\, Murcia\, Spain
END:VEVENT
END:VCALENDAR