BEGIN:VCALENDAR
VERSION:2.0
PRODID:-//Camposol Online - ECPv4.7.4//NONSGML v1.0//EN
CALSCALE:GREGORIAN
METHOD:PUBLISH
X-WR-CALNAME:Camposol Online
X-ORIGINAL-URL:http://camposolonline.com
X-WR-CALDESC:Events for Camposol Online
BEGIN:VEVENT
DTSTART;TZID=Europe/Madrid:20171112T200000
DTEND;TZID=Europe/Madrid:20171112T200000
DTSTAMP:20260423T234700
CREATED:20171104T070758Z
LAST-MODIFIED:20171104T070758Z
UID:4752-1510516800-1510516800@camposolonline.com
SUMMARY:Quiz @ Black Bull
DESCRIPTION:There’s a quiz at the Black Bull every Sunday from 20:00. \n\n\n	Related\n
URL:http://camposolonline.com/event/quiz-black-bull-121117/
LOCATION:Black Bull\, Centro Comercial\, Urbanización Camposol Sector B\, El Saladillo\, 30875 Mazarrón\, Murcia\, Spain
END:VEVENT
END:VCALENDAR