BEGIN:VCALENDAR
VERSION:2.0
PRODID:-//Camposol Online - ECPv4.7.4//NONSGML v1.0//EN
CALSCALE:GREGORIAN
METHOD:PUBLISH
X-WR-CALNAME:Camposol Online
X-ORIGINAL-URL:http://camposolonline.com
X-WR-CALDESC:Events for Camposol Online
BEGIN:VEVENT
DTSTART;TZID=Europe/Madrid:20171130T200000
DTEND;TZID=Europe/Madrid:20171130T200000
DTSTAMP:20260423T224014
CREATED:20171121T221955Z
LAST-MODIFIED:20171121T221955Z
UID:5081-1512072000-1512072000@camposolonline.com
SUMMARY:Quiz @ Bokao Family Bar
DESCRIPTION:There’s a quiz at Bokao Family Bar every Thursday from 20:00. \n\n\n	Related\n
URL:http://camposolonline.com/event/quiz-bokao-family-bar-301117/
LOCATION:Bokao Family Bar\, Al Kasar\, Condado de Alhama\, Carretera de Mazarrón\, km 33\, 30840 Alhama de Murcia\, Murcia\, Spain
END:VEVENT
END:VCALENDAR