BEGIN:VCALENDAR
VERSION:2.0
PRODID:-//Camposol Online - ECPv4.7.4//NONSGML v1.0//EN
CALSCALE:GREGORIAN
METHOD:PUBLISH
X-WR-CALNAME:Camposol Online
X-ORIGINAL-URL:http://camposolonline.com
X-WR-CALDESC:Events for Camposol Online
BEGIN:VEVENT
DTSTART;TZID=Europe/Madrid:20171101T210000
DTEND;TZID=Europe/Madrid:20171101T210000
DTSTAMP:20260423T221621
CREATED:20171104T062933Z
LAST-MODIFIED:20171104T062933Z
UID:4699-1509570000-1509570000@camposolonline.com
SUMMARY:Quiz @ Cat's Bar
DESCRIPTION:There’s a quiz at Cat’s Bar every Wednesday from 21:00. \n\n\n	Related\n
URL:http://camposolonline.com/event/quiz-cats-bar-011117/
LOCATION:Cat’s Bar\, Centro Comercial\, Urbanización Camposol Sector A\, El Saladillo\, 30875 Mazarrón\, Murcia\, Spain
END:VEVENT
END:VCALENDAR