BEGIN:VCALENDAR
VERSION:2.0
PRODID:-//Camposol Online - ECPv4.7.4//NONSGML v1.0//EN
CALSCALE:GREGORIAN
METHOD:PUBLISH
X-WR-CALNAME:Camposol Online
X-ORIGINAL-URL:http://camposolonline.com
X-WR-CALDESC:Events for Camposol Online
BEGIN:VEVENT
DTSTART;TZID=Europe/Madrid:20171008T210000
DTEND;TZID=Europe/Madrid:20171008T210000
DTSTAMP:20260423T180914
CREATED:20171003T055816Z
LAST-MODIFIED:20171003T060537Z
UID:3983-1507496400-1507496400@camposolonline.com
SUMMARY:Quiz @ Cat's Bar
DESCRIPTION:There’s a quiz at Cat’s Bar every Sunday from 21:00. \n\n\n	Related\n
URL:http://camposolonline.com/event/quiz-cats-bar-081017/
LOCATION:Cat’s Bar\, Centro Comercial\, Urbanización Camposol Sector A\, El Saladillo\, 30875 Mazarrón\, Murcia\, Spain
END:VEVENT
END:VCALENDAR