BEGIN:VCALENDAR
VERSION:2.0
PRODID:-//Camposol Online - ECPv4.7.4//NONSGML v1.0//EN
CALSCALE:GREGORIAN
METHOD:PUBLISH
X-WR-CALNAME:Camposol Online
X-ORIGINAL-URL:http://camposolonline.com
X-WR-CALDESC:Events for Camposol Online
BEGIN:VEVENT
DTSTART;TZID=Europe/Madrid:20180124T210000
DTEND;TZID=Europe/Madrid:20180124T210000
DTSTAMP:20260424T061118
CREATED:20180112T073351Z
LAST-MODIFIED:20180112T073432Z
UID:5744-1516827600-1516827600@camposolonline.com
SUMMARY:Quiz @ Cat’s Bar
DESCRIPTION:There’s a quiz at Cat’s Bar every Wednesday from 21:00. \n\n\n	Related\n
URL:http://camposolonline.com/event/quiz-cats-bar-240118/
LOCATION:Cat’s Bar\, Centro Comercial\, Urbanización Camposol Sector A\, El Saladillo\, 30875 Mazarrón\, Murcia\, Spain
END:VEVENT
END:VCALENDAR