BEGIN:VCALENDAR
VERSION:2.0
PRODID:-//Camposol Online - ECPv4.7.4//NONSGML v1.0//EN
CALSCALE:GREGORIAN
METHOD:PUBLISH
X-WR-CALNAME:Camposol Online
X-ORIGINAL-URL:http://camposolonline.com
X-WR-CALDESC:Events for Camposol Online
BEGIN:VEVENT
DTSTART;TZID=Europe/Madrid:20171212T190000
DTEND;TZID=Europe/Madrid:20171212T190000
DTSTAMP:20260423T171429
CREATED:20170909T055821Z
LAST-MODIFIED:20170909T060002Z
UID:3200-1513105200-1513105200@camposolonline.com
SUMMARY:Quiz & Chilli Supper @ The Vista Bar
DESCRIPTION:Camposol’s Fiesta Committee are hosting a Christmas-themed Quiz & Chilli Supper at The Vista Bar on 12th December 2017. There will be a prize for the best Christmas jumper! \nTickets cost 5 EUR and can be purchased from the committee’s market stall every Friday on Sector B or by emailing camposolfiesta2017@gmail.com \n\n\n	Related\n
URL:http://camposolonline.com/event/quiz-chilli-supper-vista-bar/
LOCATION:Vista Sports & Café Bar\, Centro Comercial\, Urbanización Camposol Sector A\, El Saladillo\, 30875 Mazarrón\, Murcia\, Spain
END:VEVENT
END:VCALENDAR