BEGIN:VCALENDAR
VERSION:2.0
PRODID:-//Camposol Online - ECPv4.7.4//NONSGML v1.0//EN
CALSCALE:GREGORIAN
METHOD:PUBLISH
X-WR-CALNAME:Camposol Online
X-ORIGINAL-URL:http://camposolonline.com
X-WR-CALDESC:Events for Camposol Online
BEGIN:VEVENT
DTSTART;TZID=Europe/Madrid:20171001T203000
DTEND;TZID=Europe/Madrid:20171001T203000
DTSTAMP:20260423T205611
CREATED:20170925T205908Z
LAST-MODIFIED:20171003T052652Z
UID:3684-1506889800-1506889800@camposolonline.com
SUMMARY:Quiz @ The Condado Club
DESCRIPTION:There’s a quiz at The Condado Club every Sunday from 20:30. \n\n\n	Related\n
URL:http://camposolonline.com/event/quiz-condado-club-011017/
LOCATION:The Condado Club\, Condado de Alhama\, Carretera de Mazarrón\, km 33\, 30840 Alhama de Murcia\, Murcia\, Spain
END:VEVENT
END:VCALENDAR