BEGIN:VCALENDAR
VERSION:2.0
PRODID:-//Camposol Online - ECPv4.7.4//NONSGML v1.0//EN
CALSCALE:GREGORIAN
METHOD:PUBLISH
X-WR-CALNAME:Camposol Online
X-ORIGINAL-URL:http://camposolonline.com
X-WR-CALDESC:Events for Camposol Online
BEGIN:VEVENT
DTSTART;TZID=Europe/Madrid:20171008T203000
DTEND;TZID=Europe/Madrid:20171008T203000
DTSTAMP:20260423T192526
CREATED:20171003T051339Z
LAST-MODIFIED:20171003T052432Z
UID:3954-1507494600-1507494600@camposolonline.com
SUMMARY:Quiz @ The Condado Club
DESCRIPTION:There’s a quiz at The Condado Club every Sunday from 20:30. \n\n\n	Related\n
URL:http://camposolonline.com/event/quiz-condado-club-081017/
LOCATION:The Condado Club\, Condado de Alhama\, Carretera de Mazarrón\, km 33\, 30840 Alhama de Murcia\, Murcia\, Spain
END:VEVENT
END:VCALENDAR