BEGIN:VCALENDAR
VERSION:2.0
PRODID:-//Camposol Online - ECPv4.7.4//NONSGML v1.0//EN
CALSCALE:GREGORIAN
METHOD:PUBLISH
X-WR-CALNAME:Camposol Online
X-ORIGINAL-URL:http://camposolonline.com
X-WR-CALDESC:Events for Camposol Online
BEGIN:VEVENT
DTSTART;TZID=Europe/Madrid:20171207T180000
DTEND;TZID=Europe/Madrid:20171207T180000
DTSTAMP:20260423T223754
CREATED:20171130T211354Z
LAST-MODIFIED:20171130T211354Z
UID:5219-1512669600-1512669600@camposolonline.com
SUMMARY:Quiz & Curry Evening @ Vista Sports & Café Bar
DESCRIPTION:Vista Sports & Café Bar presents Quiz & Curry evening\, every Thursday from 18:00\, plus a ‘lucky envelope’ prize draw. Call 649 219 270 to reserve a table. \n\n\n	Related\n
URL:http://camposolonline.com/event/quiz-curry-evening-vista-sports-cafe-bar-071217/
LOCATION:Vista Sports & Café Bar\, Centro Comercial\, Urbanización Camposol Sector A\, El Saladillo\, 30875 Mazarrón\, Murcia\, Spain
END:VEVENT
END:VCALENDAR