BEGIN:VCALENDAR
VERSION:2.0
PRODID:-//Camposol Online - ECPv4.7.4//NONSGML v1.0//EN
CALSCALE:GREGORIAN
METHOD:PUBLISH
X-WR-CALNAME:Camposol Online
X-ORIGINAL-URL:http://camposolonline.com
X-WR-CALDESC:Events for Camposol Online
BEGIN:VEVENT
DTSTART;TZID=Europe/Madrid:20171016T193000
DTEND;TZID=Europe/Madrid:20171016T193000
DTSTAMP:20260423T193959
CREATED:20171013T054833Z
LAST-MODIFIED:20171013T054833Z
UID:4309-1508182200-1508182200@camposolonline.com
SUMMARY:Quiz @ Oscar's Bar
DESCRIPTION:There’s a quiz with DJ Eddie B at Oscar’s Bar every Monday from 19:30. \n\n\n	Related\n
URL:http://camposolonline.com/event/quiz-oscars-bar-161017/
LOCATION:Oscar’s Bar\, Centro Comercial\, Urbanización Camposol Sector B\, El Saladillo\, 30875 Mazarrón\, Murcia\, Spain
END:VEVENT
END:VCALENDAR