BEGIN:VCALENDAR
VERSION:2.0
PRODID:-//Camposol Online - ECPv4.7.4//NONSGML v1.0//EN
CALSCALE:GREGORIAN
METHOD:PUBLISH
X-WR-CALNAME:Camposol Online
X-ORIGINAL-URL:http://camposolonline.com
X-WR-CALDESC:Events for Camposol Online
BEGIN:VEVENT
DTSTART;TZID=Europe/Madrid:20180329T203000
DTEND;TZID=Europe/Madrid:20180329T203000
DTSTAMP:20260423T183208
CREATED:20180307T204355Z
LAST-MODIFIED:20180307T204355Z
UID:6324-1522355400-1522355400@camposolonline.com
SUMMARY:Quiz @ Tel’s Bar
DESCRIPTION:There’s a quiz at Tel’s Bar every Monday\, Tuesday and Thursday from 20:30. \n\n\n	Related\n
URL:http://camposolonline.com/event/quiz-tels-bar-290318/
LOCATION:Tel’s Bar\, Centro Comercial\, Urbanización Camposol Sector A\, El Saladillo\, 30875 Mazarrón\, Murcia\, Spain
END:VEVENT
END:VCALENDAR