BEGIN:VCALENDAR
VERSION:2.0
PRODID:-//Camposol Online - ECPv4.7.4//NONSGML v1.0//EN
CALSCALE:GREGORIAN
METHOD:PUBLISH
X-WR-CALNAME:Camposol Online
X-ORIGINAL-URL:http://camposolonline.com
X-WR-CALDESC:Events for Camposol Online
BEGIN:VEVENT
DTSTART;TZID=Europe/Madrid:20180113T190000
DTEND;TZID=Europe/Madrid:20180113T190000
DTSTAMP:20260423T171437
CREATED:20171205T061643Z
LAST-MODIFIED:20171205T061804Z
UID:5311-1515870000-1515870000@camposolonline.com
SUMMARY:Race Night @ Black Bull
DESCRIPTION:Camposol Fiesta Committee are holding a Race Night at Black Bull on 13th January 2017 from 19:00. \nTickets cost 5 euros and include a beef stew and dumpling supper. They can be purchased from the committee’s market stall every Friday on Sector B or by emailing camposolfiesta2017@gmail.com. \n\n\n	Related\n
URL:http://camposolonline.com/event/race-night-black-bull-130118/
LOCATION:Black Bull\, Centro Comercial\, Urbanización Camposol Sector B\, El Saladillo\, 30875 Mazarrón\, Murcia\, Spain
END:VEVENT
END:VCALENDAR