BEGIN:VCALENDAR
VERSION:2.0
PRODID:-//Camposol Online - ECPv4.7.4//NONSGML v1.0//EN
CALSCALE:GREGORIAN
METHOD:PUBLISH
X-WR-CALNAME:Camposol Online
X-ORIGINAL-URL:http://camposolonline.com
X-WR-CALDESC:Events for Camposol Online
BEGIN:VEVENT
DTSTART;TZID=Europe/Madrid:20171125T190000
DTEND;TZID=Europe/Madrid:20171125T190000
DTSTAMP:20260424T195420
CREATED:20171105T074813Z
LAST-MODIFIED:20171105T075030Z
UID:4820-1511636400-1511636400@camposolonline.com
SUMMARY:Race Night @ Mazarrón Country Club
DESCRIPTION:Mazarrón Country Club Events Group are holding a Race Night in the Salon on 25th November 2017 from 19:00. \nTickets cost 7 euros for members and 8 euros for non-members\, and include ham and chips or pizza and chips. They can be purchased from outside the Taberna at the market every Tuesday\, or by calling Tony on 968 956 418\, Vivien on 968 956 050 or Angela on 968 956 414. \n\n\n	Related\n
URL:http://camposolonline.com/event/race-night-mazarron-country-club-251117/
LOCATION:Mazarrón Country Club\, 30879 Mazarrón\, Murcia\, Spain
END:VEVENT
END:VCALENDAR