BEGIN:VCALENDAR
VERSION:2.0
PRODID:-//Camposol Online - ECPv4.7.4//NONSGML v1.0//EN
CALSCALE:GREGORIAN
METHOD:PUBLISH
X-WR-CALNAME:Camposol Online
X-ORIGINAL-URL:http://camposolonline.com
X-WR-CALDESC:Events for Camposol Online
BEGIN:VEVENT
DTSTART;TZID=Europe/Madrid:20171014T210000
DTEND;TZID=Europe/Madrid:20171014T210000
DTSTAMP:20260424T010817
CREATED:20171013T052335Z
LAST-MODIFIED:20171013T052335Z
UID:4296-1508014800-1508014800@camposolonline.com
SUMMARY:Randall Cain @ Vista Sports & Café Bar
DESCRIPTION:Randall Cain is performing at Vista Sports & Café Bar on 14th October 2017 from 21:00. \n\n\n	Related\n
URL:http://camposolonline.com/event/randall-cain-vista-sports-cafe-bar-041017/
LOCATION:Vista Sports & Café Bar\, Centro Comercial\, Urbanización Camposol Sector A\, El Saladillo\, 30875 Mazarrón\, Murcia\, Spain
END:VEVENT
END:VCALENDAR