BEGIN:VCALENDAR
VERSION:2.0
PRODID:-//Camposol Online - ECPv4.7.4//NONSGML v1.0//EN
CALSCALE:GREGORIAN
METHOD:PUBLISH
X-WR-CALNAME:Camposol Online
X-ORIGINAL-URL:http://camposolonline.com
X-WR-CALDESC:Events for Camposol Online
BEGIN:VEVENT
DTSTART;TZID=Europe/Madrid:20180120T190000
DTEND;TZID=Europe/Madrid:20180120T190000
DTSTAMP:20260423T171602
CREATED:20180115T195858Z
LAST-MODIFIED:20180115T200352Z
UID:5860-1516474800-1516474800@camposolonline.com
SUMMARY:Red Cross Concert @ Mesón Mariano
DESCRIPTION:There’s a concert in aid of Red Cross at Mesón Mariano on 20th January 2018 from 19:00\, starring Elvis tribute act Nigelvis\, Retro\, El Pluma and more! \nTickets cost 6 euros and can be purchased from Amber Pools & Construction\, or by calling 657 074 567. \n\n\n	Related\n
URL:http://camposolonline.com/event/red-cross-concert-meson-mariano-200118/
LOCATION:Mesón Mariano\, Calle Madrid S/N\, Urbanización Camposol Sector A\, El Saladillo\, 30875 Mazarrón\, Murcia\, Spain
END:VEVENT
END:VCALENDAR