BEGIN:VCALENDAR
VERSION:2.0
PRODID:-//Camposol Online - ECPv4.7.4//NONSGML v1.0//EN
CALSCALE:GREGORIAN
METHOD:PUBLISH
X-WR-CALNAME:Camposol Online
X-ORIGINAL-URL:http://camposolonline.com
X-WR-CALDESC:Events for Camposol Online
BEGIN:VEVENT
DTSTART;TZID=Europe/Madrid:20171111T113000
DTEND;TZID=Europe/Madrid:20171111T113000
DTSTAMP:20260423T183413
CREATED:20171013T062745Z
LAST-MODIFIED:20171106T063241Z
UID:4321-1510399800-1510399800@camposolonline.com
SUMMARY:Remembrance Service @ Urb. Camposol Sector A
DESCRIPTION: \nThere’s a remembrance service at Parque Los Palacios on Urbanización Camposol Sector A on 11th November 2017 from 11:30. \nThere will be a short service\, followed by a two-minute silence\, which will be observed at noon. Those attending will be invited to offer plants and/or small wooden crosses at the end of the service. \n\n\n	Related\n
URL:http://camposolonline.com/event/remembrance-service-urb-camposol-sector-111117/
LOCATION:Camposol\, Urbanización Camposol\, El Saladillo\, 30875 Mazarrón\, Murcia\, Spain
END:VEVENT
END:VCALENDAR