BEGIN:VCALENDAR
VERSION:2.0
PRODID:-//Camposol Online - ECPv4.7.4//NONSGML v1.0//EN
CALSCALE:GREGORIAN
METHOD:PUBLISH
X-WR-CALNAME:Camposol Online
X-ORIGINAL-URL:http://camposolonline.com
X-WR-CALDESC:Events for Camposol Online
BEGIN:VEVENT
DTSTART;TZID=Europe/Madrid:20171014T210000
DTEND;TZID=Europe/Madrid:20171014T210000
DTSTAMP:20260423T233455
CREATED:20171013T050406Z
LAST-MODIFIED:20171013T050406Z
UID:4289-1508014800-1508014800@camposolonline.com
SUMMARY:Retro @ Oscar's Bar
DESCRIPTION:Retro are playing at Oscar’s Bar on 14th October 2017 from 21:00. \n\n\n	Related\n
URL:http://camposolonline.com/event/retro-oscars-bar-141017/
LOCATION:Oscar’s Bar\, Centro Comercial\, Urbanización Camposol Sector B\, El Saladillo\, 30875 Mazarrón\, Murcia\, Spain
END:VEVENT
END:VCALENDAR